BEGIN:VCALENDAR
VERSION:2.0
PRODID:icalendar-ruby
CALSCALE:GREGORIAN
METHOD:PUBLISH
BEGIN:VEVENT
DTSTAMP:20260419T134348Z
UID:185-1032289@stfrancisstamford.org
DTSTART:20260628T140000Z
DTEND:20260628T150000Z
CLASS:PUBLIC
CREATED:20260412T164230
DESCRIPTION:Rabbi Knopf joined Temple Beth-El Stamford after nearly a decad
 e at Temple Beth-El Richmond\, where he built an inclusive and vibrant com
 munity. The Forward named him one of “America’s Most Inspiring Rabbis.
 ”\nHe holds degrees from Columbia University and the Jewish Theological 
 Seminary\, and received rabbinic ordination and a master’s degree from A
 merican Jewish University. A Global Justice Fellow and doctoral candidate 
 at Union Presbyterian Seminary\, he is passionate about lifelong learning 
 and interfaith engagement.
LAST-MODIFIED:20260412T164230
LOCATION:New Church\, 2810 Long Ridge Road\, Stamford\, CT 06903
SUMMARY:SF Guest Preacher - Rabbi Michael Knopf
URL;VALUE=URI:https://www.stfrancisstamford.org/events/sf-guest-preacher-ra
 bbi-michael-knopf--185/2026-06-28
END:VEVENT
END:VCALENDAR
