BEGIN:VCALENDAR
VERSION:2.0
PRODID:icalendar-ruby
CALSCALE:GREGORIAN
METHOD:PUBLISH
BEGIN:VEVENT
DTSTAMP:20260419T134500Z
UID:184-1032288@stfrancisstamford.org
DTSTART:20260628T120000Z
DTEND:20260628T130000Z
CLASS:PUBLIC
CREATED:20260412T164029
DESCRIPTION:Rabbi Knopf joined Temple Beth-El Stamford after nearly a decad
 e at Temple Beth-El Richmond\, where he built an inclusive and vibrant com
 munity. The Forward named him one of “America’s Most Inspiring Rabbis.
 ”\nHe holds degrees from Columbia University and the Jewish Theological 
 Seminary\, and received rabbinic ordination and a master’s degree from A
 merican Jewish University. A Global Justice Fellow and doctoral candidate 
 at Union Presbyterian Seminary\, he is passionate about lifelong learning 
 and interfaith engagement.
LAST-MODIFIED:20260412T164029
LOCATION:Historic Church\, 503 Old Long Ridge Road\, Stamford\, CT 06903
SUMMARY:SF Guest Preacher - Rabbi Michael Knopf
URL;VALUE=URI:https://www.stfrancisstamford.org/events/sf-guest-preacher-ra
 bbi-michael-knopf/2026-06-28
ATTACH;FILENAME=Rabbi-Michael-Knopf.jpg;FMTTYPE=image/jpeg:https://dq5pwpg1
 q8ru0.cloudfront.net/2026/04/12/20/40/29/b90419f5-1d17-4cb9-b9cb-f12a76e94
 4e1/Rabbi-Michael-Knopf.jpg
END:VEVENT
END:VCALENDAR
