BEGIN:VCALENDAR
VERSION:2.0
PRODID:icalendar-ruby
CALSCALE:GREGORIAN
METHOD:PUBLISH
BEGIN:VEVENT
DTSTAMP:20260419T134925Z
UID:145-1031498@stfrancisstamford.org
DTSTART:20260607T140000Z
DTEND:20260607T150000Z
CLASS:PUBLIC
CREATED:20260412T131823
DESCRIPTION:In 1983\, the Rev. Carol Gadsden arrived at St. Francis as a se
 minarian\; upon her graduation in 1985\, she became Father Mayberry’s as
 sociate\, a position she held until 1989 with her call to the Diocese of M
 assachusetts. Over the course of her forty years of ordained ministry\, Ca
 rol has been a vicar\, an interim (three times)\, a priest-in-charge (four
  times)\, and a rector (twice). She retired from the Diocese of New York a
 s the rector of St. Thomas Church in Mamaroneck in 2021.  Retirement didn
 ’t last\, as she recently ended a call as interim at St. John’s\, Esse
 x\, where she lives with her wife\, Linda March. Although she is truly and
  fully retired\, she always says 'yes' to the opportunity to be back at St
 . Francis!
LAST-MODIFIED:20260412T131823
LOCATION:Historic Church\, 503 Old Long Ridge Road\, Stamford\, CT 06903
SUMMARY:SF Guest Priest - The Rev. Carol Gadsden
URL;VALUE=URI:https://www.stfrancisstamford.org/events/sf-guest-priest-the-
 rev-carol-gadsden/2026-06-07
ATTACH;FILENAME=Rev. Carol Gadsden.jpg;FMTTYPE=image/jpeg:https://dq5pwpg1q
 8ru0.cloudfront.net/2025/09/03/14/53/00/a31e4c00-052d-49ee-8d26-b9b1b5b073
 32/Rev.%20Carol%20Gadsden.jpg
END:VEVENT
END:VCALENDAR
