BEGIN:VCALENDAR
VERSION:2.0
PRODID:icalendar-ruby
CALSCALE:GREGORIAN
METHOD:PUBLISH
BEGIN:VEVENT
DTSTAMP:20260419T135028Z
UID:174-1031504@stfrancisstamford.org
DTSTART:20260607T140000Z
DTEND:20260607T150000Z
CLASS:PUBLIC
CREATED:20260412T132843
DESCRIPTION:We welcome back the Rev. Dr. Linda Spiers\, who previously serv
 ed as our interim Supply Priest during our rector search. She returns whil
 e the Rev. Joe Rose is on vacation.\nLinda is the former Rector of Trinity
  Episcopal Church\, Collinsville\, CT (nearly 15 years) and served at Chri
 st Church Cathedral in Hartford. After retiring\, she earned a Doctor of M
 inistry from Hartford International University. She remains active in the 
 Connecticut Episcopal Church as convener of the Holy Landers Ministry Netw
 ork\, Deputy to General Convention\, and Chaplain for retired clergy in th
 e North Central Region. Locally\, she serves as Chaplain to the Canton Vol
 unteer Fire Department\, sits on the Juvenile Review Board\, and supports 
 the Heads Up! Hartford youth camp. We look forward to her return!
LAST-MODIFIED:20260412T132843
LOCATION:Historic Church\, 503 Old Long Ridge Road\, Stamford\, CT 06903
SUMMARY:SF Guest Priest - The Rev. Dr. Linda Spiers
URL;VALUE=URI:https://www.stfrancisstamford.org/events/sf-guest-priest-the-
 rev-dr-linda-spiers/2026-06-07
ATTACH;FILENAME=Rev. Linda Spiers.jpg;FMTTYPE=image/jpeg:https://dq5pwpg1q8
 ru0.cloudfront.net/2026/03/06/20/54/22/6f14971f-a696-4195-8414-c2a998a679d
 7/Rev.%20Linda%20Spiers.jpg
END:VEVENT
END:VCALENDAR
