BEGIN:VCALENDAR
VERSION:2.0
PRODID:icalendar-ruby
CALSCALE:GREGORIAN
METHOD:PUBLISH
BEGIN:VEVENT
DTSTAMP:20260419T115945Z
UID:40-1033079@stfrancisstamford.org
DTSTART:20260521T190000Z
DTEND:20260521T200000Z
CLASS:PUBLIC
CREATED:20260412T171348
DESCRIPTION:The Marketing Committee regularly meets to promote various acti
 vities and events at St Francis such as Movie discussions\, Hiking\, Outre
 ach\, Miles for a Mission\, etc. Click JOIN HERE
LAST-MODIFIED:20260412T171348
LOCATION:VIRTUAL
SUMMARY:SF Marketing
URL;VALUE=URI:https://www.stfrancisstamford.org/events/sf-marketing/2026-05
 -21
ATTACH;FILENAME=Meeting.jpg;FMTTYPE=image/jpeg:https://dq5pwpg1q8ru0.cloudf
 ront.net/2023/10/12/13/27/49/e16287c2-9778-4905-ba97-2df714ea6d18/Meeting.
 jpg
END:VEVENT
END:VCALENDAR
