BEGIN:VCALENDAR
VERSION:2.0
PRODID:icalendar-ruby
CALSCALE:GREGORIAN
METHOD:PUBLISH
BEGIN:VEVENT
DTSTAMP:20260420T072647Z
UID:8-1065910@stfrancisstamford.org
DTSTART:20260915T210000Z
DTEND:20260915T214500Z
CLASS:PUBLIC
CREATED:20260420T013829
DESCRIPTION:During this on-line get-together\, we enjoy the company of othe
 rs as we knit or crochet prayer shawls or winter hats for various causes. 
 Click INVOCATION for the recitation that we use during each gathering. To 
 request a Prayer Shawl for a friend or family member (in celebration of a 
 good event or to provide comfort)\, please click REQUEST and fill out as
  instructed.\nJOIN HERE
LAST-MODIFIED:20260420T013829
LOCATION:VIRTUAL
SUMMARY:SF Prayer Shawl Ministry
URL;VALUE=URI:https://www.stfrancisstamford.org/events/sf-prayer-shawl-mini
 stry/2026-09-15
ATTACH;FILENAME=Prayer Shawl.jpg;FMTTYPE=image/jpeg:https://dq5pwpg1q8ru0.c
 loudfront.net/2023/09/25/16/20/09/06d54921-3e38-4edc-b29c-d48eb5ba2a19/Pra
 yer%20Shawl.jpg
END:VEVENT
END:VCALENDAR
