BEGIN:VCALENDAR
VERSION:2.0
PRODID:icalendar-ruby
CALSCALE:GREGORIAN
METHOD:PUBLISH
BEGIN:VEVENT
DTSTAMP:20260419T134831Z
UID:178-988514@stfrancisstamford.org
DTSTART:20260523T133000Z
DTEND:20260523T150000Z
CLASS:PUBLIC
CREATED:20260403T101026
DESCRIPTION:At the start of Lent\, we reconfigure the New Church into a chu
 rch-in-the-round layout. The altar and floor tiles are moved to the center
 \, and the chairs are arranged to reflect the season’s intimacy and inte
 ntional focus. Just before Pentecost\, everything is returned to the presi
 dium configuration.
LAST-MODIFIED:20260403T101026
LOCATION:New Church\, 2810 Long Ridge Road\, Stamford\, CT 06903
SUMMARY:SF Reconfigure New Church
URL;VALUE=URI:https://www.stfrancisstamford.org/events/sf-reconfigure-new-c
 hurch/2026-05-23
ATTACH;FILENAME=Re-Configuring New Church.jpg;FMTTYPE=image/jpeg:https://dq
 5pwpg1q8ru0.cloudfront.net/2026/04/03/00/09/53/2ee11a31-4399-446a-b12c-7ce
 3c708d970/Re-Configuring%20New%20Church.jpg
END:VEVENT
END:VCALENDAR
